BEGIN:VCALENDAR
VERSION:2.0
PRODID:-//NLAS | National Lutheran Association on Scouting - ECPv6.15.20//NONSGML v1.0//EN
CALSCALE:GREGORIAN
METHOD:PUBLISH
X-ORIGINAL-URL:https://nlas.org
X-WR-CALDESC:Events for NLAS | National Lutheran Association on Scouting
REFRESH-INTERVAL;VALUE=DURATION:PT1H
X-Robots-Tag:noindex
X-PUBLISHED-TTL:PT1H
BEGIN:VTIMEZONE
TZID:UTC
BEGIN:STANDARD
TZOFFSETFROM:+0000
TZOFFSETTO:+0000
TZNAME:UTC
DTSTART:20230101T000000
END:STANDARD
END:VTIMEZONE
BEGIN:VEVENT
DTSTART;VALUE=DATE:20240707
DTEND;VALUE=DATE:20240714
DTSTAMP:20260421T154523
CREATED:20240415T164432Z
LAST-MODIFIED:20240415T164520Z
UID:4241-1720310400-1720915199@nlas.org
SUMMARY:Religious Relationships Week
DESCRIPTION:BRAND NEW WEEK offered by the BSA National Religious Relationships Committee. This conference is designed so you are constantly networking with subject matter experts on faith topics\, general BSA program topics\, and geographic based Scouting resources. In fact\, you’re going to switch classrooms throughout the week based on what topic you want to hear about most! \nWe want BSA leaders (unit level and up)\, Scouting professionals\, faith volunteers and professionals (youth group\, clergy\, seminary students\, etc.)\, and family members to all join us. The only requirement for attending is you must register in the BSA if you are over 18 to go through our background check and complete Youth Protection Training. \nPhilmont Training Center Registration/Payment \nClass Selection Forms
URL:https://nlas.org/event/religious-relationships-week/
LOCATION:Philmont Training Center\, 32 Orchard Cir\, Cimarron\, 87714\, United States
CATEGORIES:BSA
ATTACH;FMTTYPE=image/jpeg:https://nlas.org/wp-content/uploads/2024/04/qtq80-8nHarD.jpeg
END:VEVENT
END:VCALENDAR