BEGIN:VCALENDAR
VERSION:2.0
PRODID:-//NLAS | National Lutheran Association on Scouting - ECPv6.15.20//NONSGML v1.0//EN
CALSCALE:GREGORIAN
METHOD:PUBLISH
X-WR-CALNAME:NLAS | National Lutheran Association on Scouting
X-ORIGINAL-URL:https://nlas.org
X-WR-CALDESC:Events for NLAS | National Lutheran Association on Scouting
REFRESH-INTERVAL;VALUE=DURATION:PT1H
X-Robots-Tag:noindex
X-PUBLISHED-TTL:PT1H
BEGIN:VTIMEZONE
TZID:UTC
BEGIN:STANDARD
TZOFFSETFROM:+0000
TZOFFSETTO:+0000
TZNAME:UTC
DTSTART:20230101T000000
END:STANDARD
END:VTIMEZONE
BEGIN:VEVENT
DTSTART;TZID=UTC:20240502T173000
DTEND;TZID=UTC:20240502T173000
DTSTAMP:20260421T182020
CREATED:20240402T183727Z
LAST-MODIFIED:20240402T183727Z
UID:4218-1714671000-1714671000@nlas.org
SUMMARY:Scouts Read Sacred Texts Worldwide
DESCRIPTION:Imagine Scouts of all faiths reading their sacred texts and praying with their families at 5:30 PM local time on May 2. Reading of sacred texts and prayer spreads around the globe as eventide approaches each locale\, until it has gone around the world in 24 hours. You and your Scouts are invited to celebrate the National Day of Prayer by participating in Scouts Read Sacred Texts Worldwide.
URL:https://nlas.org/event/scouts-read-sacred-texts-worldwide/
LOCATION:MN
CATEGORIES:BSA
ATTACH;FMTTYPE=image/jpeg:https://nlas.org/wp-content/uploads/2024/04/qtq80-des6VL.jpeg
END:VEVENT
BEGIN:VEVENT
DTSTART;VALUE=DATE:20240501
DTEND;VALUE=DATE:20240502
DTSTAMP:20260421T182020
CREATED:20240415T165943Z
LAST-MODIFIED:20240415T170010Z
UID:4245-1714521600-1714607999@nlas.org
SUMMARY:NLAS 4-Star Scholarship Application Deadline
DESCRIPTION:Amount: Two (2) $500.00 scholarships will be awarded annually by NLAS \nEligibility: Open to all youth registered with American Heritage Girls\, Girl Scouts of the USA\, or Boy Scouts of America who have successfully earned four (4) P.R.A.Y. Program Awards and are seniors in high school. Scholarships are for post-secondary education and will be paid directly to the designated institution. \nCriteria for consideration: \n\nP.R.A.Y Awards: Earning the following: 1) either Jesus & Me or God & Me\, 2) God & Family\, 3) God & Church\, and 4) God & Life.\nCongregational activities: Summary of participation in home congregation such as confirmation education\, youth group activities\, or church sponsored programs.\nAcademics: High School transcript reflecting a minimum of six (6) semesters of academic achievement that states unweighted and weighted GPA.\nSummary of Extra-Curricular activities/awards: Summary of activities (such as athletics\, drama\, robotics\, band\, or choir) and awards (such as varsity letter(s)\, NHS\, or John Philip Sousa award).\nScouting program: Summary of participation years and highest rank achieved (such as Gold Award\, Stars & Stripes Award\, Eagle Scout rank).\n\nIn addition: \n\nA 500-1000 word faith statement from applicant.\nLetter of Recommendation from Pastor of home congregation.\n\nQualifying Institutions: Accredited Junior Colleges\, Colleges\, Universities\, or Vocational Schools. Awarded scholarship funds will be paid directly to the institution in the name of the recipient for tuition costs only. Funds cannot be applied to books\, room & board\, or travel expenses. \nApplication Process: \n\nApplications may be submitted to NLAS from January 1 to May 1\, 2024.\nReview by NLAS will be completed by May 15\, 2024.\nRecommended recipients will be approved by NLAS Board by June 1\, 2024.\nRecipients will be notified by June 15\, 2024.\n\nLink to Application
URL:https://nlas.org/event/nlas-4-star-scholarship-application-deadline/
LOCATION:MN
CATEGORIES:AHG,BSA,GSUSA,NLAS
ATTACH;FMTTYPE=image/jpeg:https://nlas.org/wp-content/uploads/2024/04/qtq80-gIHUZ0.jpeg
END:VEVENT
END:VCALENDAR