BEGIN:VCALENDAR
VERSION:2.0
PRODID:-//NLAS | National Lutheran Association on Scouting - ECPv6.15.20//NONSGML v1.0//EN
CALSCALE:GREGORIAN
METHOD:PUBLISH
X-WR-CALNAME:NLAS | National Lutheran Association on Scouting
X-ORIGINAL-URL:https://nlas.org
X-WR-CALDESC:Events for NLAS | National Lutheran Association on Scouting
REFRESH-INTERVAL;VALUE=DURATION:PT1H
X-Robots-Tag:noindex
X-PUBLISHED-TTL:PT1H
BEGIN:VTIMEZONE
TZID:UTC
BEGIN:STANDARD
TZOFFSETFROM:+0000
TZOFFSETTO:+0000
TZNAME:UTC
DTSTART:20230101T000000
END:STANDARD
END:VTIMEZONE
BEGIN:VTIMEZONE
TZID:America/Chicago
BEGIN:DAYLIGHT
TZOFFSETFROM:-0600
TZOFFSETTO:-0500
TZNAME:CDT
DTSTART:20230312T080000
END:DAYLIGHT
BEGIN:STANDARD
TZOFFSETFROM:-0500
TZOFFSETTO:-0600
TZNAME:CST
DTSTART:20231105T070000
END:STANDARD
BEGIN:DAYLIGHT
TZOFFSETFROM:-0600
TZOFFSETTO:-0500
TZNAME:CDT
DTSTART:20240310T080000
END:DAYLIGHT
BEGIN:STANDARD
TZOFFSETFROM:-0500
TZOFFSETTO:-0600
TZNAME:CST
DTSTART:20241103T070000
END:STANDARD
BEGIN:DAYLIGHT
TZOFFSETFROM:-0600
TZOFFSETTO:-0500
TZNAME:CDT
DTSTART:20250309T080000
END:DAYLIGHT
BEGIN:STANDARD
TZOFFSETFROM:-0500
TZOFFSETTO:-0600
TZNAME:CST
DTSTART:20251102T070000
END:STANDARD
END:VTIMEZONE
BEGIN:VEVENT
DTSTART;VALUE=DATE:20240707
DTEND;VALUE=DATE:20240714
DTSTAMP:20260422T023935
CREATED:20240415T164432Z
LAST-MODIFIED:20240415T164520Z
UID:4241-1720310400-1720915199@nlas.org
SUMMARY:Religious Relationships Week
DESCRIPTION:BRAND NEW WEEK offered by the BSA National Religious Relationships Committee. This conference is designed so you are constantly networking with subject matter experts on faith topics\, general BSA program topics\, and geographic based Scouting resources. In fact\, you’re going to switch classrooms throughout the week based on what topic you want to hear about most! \nWe want BSA leaders (unit level and up)\, Scouting professionals\, faith volunteers and professionals (youth group\, clergy\, seminary students\, etc.)\, and family members to all join us. The only requirement for attending is you must register in the BSA if you are over 18 to go through our background check and complete Youth Protection Training. \nPhilmont Training Center Registration/Payment \nClass Selection Forms
URL:https://nlas.org/event/religious-relationships-week/
LOCATION:Philmont Training Center\, 32 Orchard Cir\, Cimarron\, 87714\, United States
CATEGORIES:BSA
ATTACH;FMTTYPE=image/jpeg:https://nlas.org/wp-content/uploads/2024/04/qtq80-8nHarD.jpeg
END:VEVENT
BEGIN:VEVENT
DTSTART;TZID=America/Chicago:20240708T190000
DTEND;TZID=America/Chicago:20240708T210000
DTSTAMP:20260422T023935
CREATED:20240415T231714Z
LAST-MODIFIED:20240606T033147Z
UID:4255-1720465200-1720472400@nlas.org
SUMMARY:NLAS Annual Meeting @ Religious Relationships Week
DESCRIPTION:Every two years a Nominating Committee is formed to develop a slate of nominees for the national officers of the Executive Board of the National Lutheran Association on Scouting: President-Elect\, Secretary\, Treasurer\, and two Members at Large. The officers are elected by the voting membership (dues-paid and honorary members) of NLAS and are installed at the annual meeting in even numbered years. Terms are for two years with the exception of President-Elect who succeeds to the office of President after two years. \n \nRead the Spring 2024 edition of Lutheran Scouting for more information on the nominees.
URL:https://nlas.org/event/nlas-annual-meeting/
LOCATION:Philmont Training Center\, 32 Orchard Cir\, Cimarron\, 87714\, United States
CATEGORIES:NLAS
ATTACH;FMTTYPE=image/jpeg:https://nlas.org/wp-content/uploads/2024/04/qtq80-HY07XU.jpeg
END:VEVENT
BEGIN:VEVENT
DTSTART;VALUE=DATE:20240716
DTEND;VALUE=DATE:20240721
DTSTAMP:20260422T023935
CREATED:20240415T232434Z
LAST-MODIFIED:20250429T184247Z
UID:4267-1721088000-1721519999@nlas.org
SUMMARY:ELCA Youth Gathering
DESCRIPTION:Every three years\, thousands of high school youth and their adult leaders from across the Evangelical Lutheran Church in America gather for a week of faith formation known as the ELCA Youth Gathering. Through days spent in interactive learning\, worship\, Bible study\, service and fellowship\, young people grow in faith and are challenged and inspired to live their faith in their daily lives. \nAn important part of the Gathering’s ministry are the two pre-events\, the Multicultural Youth Leadership Event (MYLE)\, a faith formation and leadership development event primarily for youth of color\, and the tAble\, a gathering that brings together\, blesses and empowers youth with disabilities. \nThe ministry of the Gathering is excited to partner with Young Adult Ministries to host the first-ever ELCA Young Adult Gathering for individuals who will be 18-35 at the time of the Gathering.
URL:https://nlas.org/event/elca-youth-gathering/
LOCATION:MN
CATEGORIES:Other
ATTACH;FMTTYPE=image/png:https://nlas.org/wp-content/uploads/2025/04/ELCA-youth-gathering.png
END:VEVENT
BEGIN:VEVENT
DTSTART;VALUE=DATE:20250706
DTEND;VALUE=DATE:20250713
DTSTAMP:20260422T023935
CREATED:20250328T155714Z
LAST-MODIFIED:20250429T190515Z
UID:4640-1751760000-1752364799@nlas.org
SUMMARY:Faith in Scouting - Scouting in the Lutheran Church
DESCRIPTION:2025 PTC Promo Flyer\n\nScouting in the Lutheran Church\nat the Philmont Training Center\nJuly 6-12\, 2025\n\nHow can your congregation best use the tools of the Scouting program? The National Lutheran Association on Scouting (NLAS) is hosting a volunteer training conference at the iconic Philmont Scout Ranch in New Mexico to address that very topic.  This year\, we’ve also included sessions on staffing the 2026 National Jamboree.\n \nFor details see the attachment and log on to: http://www.philmontscoutranch.org/ptc/\n\n \n\n\nIn addition . . . it’s the Philmont Training Center’s 75th anniversary!\n\n COME . . . JOIN THE CELEBRATION AND SHARE THE PEACE!
URL:https://nlas.org/event/faith-in-scouting-scouting-in-the-lutheran-church/
LOCATION:Philmont Training Center\, 32 Orchard Cir\, Cimarron\, 87714\, United States
CATEGORIES:BSA,NLAS
ATTACH;FMTTYPE=image/png:https://nlas.org/wp-content/uploads/2025/04/nlas-event-scout-with-jesus.png
END:VEVENT
BEGIN:VEVENT
DTSTART;VALUE=DATE:20250719
DTEND;VALUE=DATE:20250724
DTSTAMP:20260422T023935
CREATED:20240415T232911Z
LAST-MODIFIED:20250429T182650Z
UID:4270-1752883200-1753315199@nlas.org
SUMMARY:LCMS Youth Gathering
DESCRIPTION:Held every 3 years since 1980\, the LCMS Youth Gathering provides thousands of youth and adults the opportunity to come together as a community of God’s people to be encouraged in their walk with Jesus Christ and learn about the Christian faith and their Lutheran identity.  \nThe Gathering is more than the five days of the event. The preparation process for the Gathering brings together young people and supportive adults to encourage each other in their baptismal identity. The Gathering provides young people a vision for the vastness of Christ’s Church and equips them for vocational service as they continue their walk with Jesus.   \n This event is organized by LCMS Youth Ministry in Saint Louis\, MO. For additional ways to connect to LCMS Youth Ministry\, please visit www.lcms.org/youth. 
URL:https://nlas.org/event/lcms-youth-gathering/
LOCATION:LCMS Youth Gathering Office\, 1333 S. Kirkwood Road\, Saint Louis\, MO\, 63122\, United States
CATEGORIES:Other
ATTACH;FMTTYPE=image/png:https://nlas.org/wp-content/uploads/2025/04/LCMS-youth-gathering.png
END:VEVENT
BEGIN:VEVENT
DTSTART;VALUE=DATE:20260720
DTEND;VALUE=DATE:20260727
DTSTAMP:20260422T023935
CREATED:20240415T233259Z
LAST-MODIFIED:20250429T185523Z
UID:4274-1784505600-1785110399@nlas.org
SUMMARY:Girl Scout National Convention in Washington\, D.C
DESCRIPTION:Girl Scouts Nation’s Capital has been selected as the host Council for the highly anticipated 2026 Girl Scout Convention\nMark your calendars for July 20 to July 25\, 2026\, when we’ll welcome Girl Scouts from across the country to our backyard—Washington\, D.C. \nThe 2026 Convention will be a remarkable event where we will come together to discuss\, debate\, and vote on issues crucial to our Girl Scout Movement. Our member participation is not only desired—it’s essential. Your ideas and enthusiasm will shape this Convention into an unforgettable experience.  \nWe invite you to share your preferred level of participation by completing this form to let us know how you’d like to engage.  
URL:https://nlas.org/event/2026-girl-scout-convention-in-washington-d-c/
LOCATION:Walter E. Washington Convention Center\, 801 Allen Y. Lew Place NW\, Washington\, DC\, 20001\, United States
CATEGORIES:GSUSA
ATTACH;FMTTYPE=image/png:https://nlas.org/wp-content/uploads/2025/04/GSUSA-youth-gathering.png
END:VEVENT
BEGIN:VEVENT
DTSTART;VALUE=DATE:20260722
DTEND;VALUE=DATE:20260801
DTSTAMP:20260422T023935
CREATED:20240415T234039Z
LAST-MODIFIED:20250429T185140Z
UID:4279-1784678400-1785542399@nlas.org
SUMMARY:Scouting America National Jamboree
DESCRIPTION:What Is Jamboree?\n\n\n\n\nJamboree is more than a destination. It’s the adventure of lifetime. And there is simply nothing else like it on the planet. \nWhat’s a Jamboree? It’s not camp. National Jamboree is 360-degrees of fun\, friends and fellowship with hands-on adventure that takes you places you never thought you’d go and challenge you to try things you never thought you could. \nIt’s the beginning of your own heroes’ journey that will challenge you to go farther than you ever thought possible. You’ll reach deeper and lift yourself higher to become the best version of yourself. \nLearn More
URL:https://nlas.org/event/2026-bsa-national-jamboree/
LOCATION:Summit Bechtel Reserve\, 2550 Jack Furst Dr\, Glen Jean\, WV\, 25846\, United States
CATEGORIES:BSA
ATTACH;FMTTYPE=image/png:https://nlas.org/wp-content/uploads/2025/04/BSA-youth-gathering.png
END:VEVENT
BEGIN:VEVENT
DTSTART;TZID=UTC:20270628T080000
DTEND;TZID=UTC:20270702T170000
DTSTAMP:20260422T023935
CREATED:20250429T184955Z
LAST-MODIFIED:20250429T184955Z
UID:4790-1814169600-1814547600@nlas.org
SUMMARY:ELCA Youth Gathering
DESCRIPTION:The 2027 ELCA Youth Gathering is scheduled to take place in Minneapolis\, Minnesota\, from June 28 to July 2\, 2027. \nThis event\, organized by the Evangelical Lutheran Church in America (ELCA)\, brings together high school youth and adult leaders for a week of faith formation\, including interactive learning\, worship\, Bible study\, service\, and fellowship. Participants engage in various activities designed to deepen their faith and strengthen their community bonds. \nFor more details\, including registration information and volunteer opportunities\, you can visit the official ELCA Youth Gathering website at elca.org/gathering.​ELCA
URL:https://nlas.org/event/elca-youth-gathering-2/
LOCATION:To be announced\, Minneapolis\, MN\, United States
CATEGORIES:Other
ATTACH;FMTTYPE=image/png:https://nlas.org/wp-content/uploads/2025/04/ELCA-youth-gathering.png
ORGANIZER;CN="ELCA":MAILTO:gathering@elca.org
END:VEVENT
END:VCALENDAR